BEGIN:VCALENDAR
VERSION:2.0
PRODID:icalendar-ruby
CALSCALE:GREGORIAN
METHOD:PUBLISH
BEGIN:VEVENT
DTSTAMP:20260423T091847Z
UID:79cd7aa3-3114-4329-b1a7-902f414c36b9
DTSTART:20260521T180000Z
DTEND:20260521T190000Z
DESCRIPTION:What’s the difference between an ESA and a service animal? Jo
 in the California Civil Rights Department for a crash course in Fair Housi
 ng laws that protect assistance animals.
ORGANIZER:kjohnson@redrover.org
SUMMARY:Fair Housing and Assistance Animals
END:VEVENT
END:VCALENDAR
