BEGIN:VCALENDAR
VERSION:2.0
PRODID:icalendar-ruby
CALSCALE:GREGORIAN
METHOD:PUBLISH
BEGIN:VEVENT
DTSTAMP:20260421T162703Z
UID:4be4307c-6c92-4681-81b7-891359b4ec4e
DTSTART:20260430T180000Z
DTEND:20260430T190000Z
DESCRIPTION:Join Seattle’s One Health Clinic to learn how integrating vet
 erinary medicine and human healthcare can improve outcomes for pet owners 
 experiencing homelessness. 
ORGANIZER:kjohnson@redrover.org
SUMMARY:One Health\, Two Patients: The Human-Animal Bond in Homeless Health
  Services
END:VEVENT
END:VCALENDAR
